BEGIN:VCALENDAR
VERSION:2.0
PRODID:-//IRIS-Integrated Refugee &amp; Immigrant Services - ECPv6.15.20//NONSGML v1.0//EN
CALSCALE:GREGORIAN
METHOD:PUBLISH
X-WR-CALNAME:IRIS-Integrated Refugee &amp; Immigrant Services
X-ORIGINAL-URL:https://irisct.org
X-WR-CALDESC:Events for IRIS-Integrated Refugee &amp; Immigrant Services
REFRESH-INTERVAL;VALUE=DURATION:PT1H
X-Robots-Tag:noindex
X-PUBLISHED-TTL:PT1H
BEGIN:VTIMEZONE
TZID:UTC
BEGIN:STANDARD
TZOFFSETFROM:+0000
TZOFFSETTO:+0000
TZNAME:UTC
DTSTART:20240101T000000
END:STANDARD
END:VTIMEZONE
BEGIN:VEVENT
DTSTART;TZID=UTC:20250717T180000
DTEND;TZID=UTC:20250717T193000
DTSTAMP:20260425T162624
CREATED:20250715T174430Z
LAST-MODIFIED:20250715T174610Z
UID:30721-1752775200-1752780600@irisct.org
SUMMARY:"Good Trouble Lives On" Protest
DESCRIPTION:The “Good Trouble Lives On” protest on July 17th is a national day of action to defend and carry forward the legacy of Congressman John Lewis\, who championed the concept of “good trouble”. The rally aims to counter attacks on civil and human rights by the current administration and emphasize that power ultimately resides with the people. It’s a call to action to protect voting rights\, protest criminalization and promote social justice through non violent means.
URL:https://irisct.org/event/good-trouble-lives-on-protest/
LOCATION:New Haven Green
ATTACH;FMTTYPE=image/jpeg:https://irisct.org/wp-content/uploads/2025/07/July-17-rally-scaled.jpg
END:VEVENT
END:VCALENDAR