BEGIN:VCALENDAR
VERSION:2.0
PRODID:-//IRIS-Integrated Refugee &amp; Immigrant Services - ECPv6.15.20//NONSGML v1.0//EN
CALSCALE:GREGORIAN
METHOD:PUBLISH
X-ORIGINAL-URL:https://irisct.org
X-WR-CALDESC:Events for IRIS-Integrated Refugee &amp; Immigrant Services
REFRESH-INTERVAL;VALUE=DURATION:PT1H
X-Robots-Tag:noindex
X-PUBLISHED-TTL:PT1H
BEGIN:VTIMEZONE
TZID:UTC
BEGIN:STANDARD
TZOFFSETFROM:+0000
TZOFFSETTO:+0000
TZNAME:UTC
DTSTART:20240101T000000
END:STANDARD
END:VTIMEZONE
BEGIN:VEVENT
DTSTART;TZID=UTC:20250928T163000
DTEND;TZID=UTC:20250928T180000
DTSTAMP:20260425T134942
CREATED:20250918T160655Z
LAST-MODIFIED:20250918T160924Z
UID:31248-1759077000-1759082400@irisct.org
SUMMARY:Steinway Artist Concert
DESCRIPTION:Bethesda Lutheran Church \nPlease join us for a concert of scintillating music of Liszt not often heard\, played by Steinway Artist Dr. Teresa Walters.  Presented by the Bethesda Music Series\, admission is free. For any who wish to make a donation\, all proceeds go to Integrated Refugee & Immigration Services. Dr. Walters is known around the world for her fabulous mastery of the piano and its music. You can explore her bio here: https://www.teresawalters.com/ \n\n\n“Teresa Walters is a splendid musician whose marvelous technical prowess and rich expressive resources create music of intimate introspection\, orchestral grandeur\, and the most minute inflections of color.”\n– The Washington Post\n\n“Her fingers give off sparks and she takes the keyboard into orbit.”\n– Budapest Sun\n\n \nBenefit for Integrated Immigrant & Refugee Services \n\nAdmission is free\, but donations for IRIS much appreciated.\nAll proceeds go to IRIS.
URL:https://irisct.org/event/steinway-artist-concert/
ATTACH;FMTTYPE=image/jpeg:https://irisct.org/wp-content/uploads/2025/09/theresa-walters-event-flyer.jpg
END:VEVENT
END:VCALENDAR