BEGIN:VCALENDAR
VERSION:2.0
PRODID:-//IRIS-Integrated Refugee &amp; Immigrant Services - ECPv6.15.20//NONSGML v1.0//EN
CALSCALE:GREGORIAN
METHOD:PUBLISH
X-WR-CALNAME:IRIS-Integrated Refugee &amp; Immigrant Services
X-ORIGINAL-URL:https://irisct.org
X-WR-CALDESC:Events for IRIS-Integrated Refugee &amp; Immigrant Services
REFRESH-INTERVAL;VALUE=DURATION:PT1H
X-Robots-Tag:noindex
X-PUBLISHED-TTL:PT1H
BEGIN:VTIMEZONE
TZID:UTC
BEGIN:STANDARD
TZOFFSETFROM:+0000
TZOFFSETTO:+0000
TZNAME:UTC
DTSTART:20250101T000000
END:STANDARD
END:VTIMEZONE
BEGIN:VEVENT
DTSTART;TZID=UTC:20260220T190000
DTEND;TZID=UTC:20260220T210000
DTSTAMP:20260425T013057
CREATED:20260204T200929Z
LAST-MODIFIED:20260204T200929Z
UID:33487-1771614000-1771621200@irisct.org
SUMMARY:Protecting Our Children From Ice Conference
DESCRIPTION:
URL:https://irisct.org/event/protecting-our-children-from-ice-conference/
ATTACH;FMTTYPE=image/jpeg:https://irisct.org/wp-content/uploads/2026/02/Protect-Our-Children-Conference.jpg
END:VEVENT
END:VCALENDAR