BEGIN:VCALENDAR
VERSION:2.0
PRODID:-//IRIS-Integrated Refugee &amp; Immigrant Services - ECPv6.15.20//NONSGML v1.0//EN
CALSCALE:GREGORIAN
METHOD:PUBLISH
X-WR-CALNAME:IRIS-Integrated Refugee &amp; Immigrant Services
X-ORIGINAL-URL:https://irisct.org
X-WR-CALDESC:Events for IRIS-Integrated Refugee &amp; Immigrant Services
REFRESH-INTERVAL;VALUE=DURATION:PT1H
X-Robots-Tag:noindex
X-PUBLISHED-TTL:PT1H
BEGIN:VTIMEZONE
TZID:UTC
BEGIN:STANDARD
TZOFFSETFROM:+0000
TZOFFSETTO:+0000
TZNAME:UTC
DTSTART:20240101T000000
END:STANDARD
END:VTIMEZONE
BEGIN:VEVENT
DTSTART;TZID=UTC:20250804T000000
DTEND;TZID=UTC:20250917T000000
DTSTAMP:20260425T162112
CREATED:20250804T224354Z
LAST-MODIFIED:20250804T225030Z
UID:30832-1754265600-1758067200@irisct.org
SUMMARY:Roots & Routes: A Call for Artists and Storytellers
DESCRIPTION:IN THEIR SHOES: \nROOTS & ROUTES \nCall For Artists & Storytellers \nBen & Jerry’s CT & the ACLU of Connecticut will be hosting an art gallery\, to amplify and uplift the stories of immigrants & refugees in our community. The art gallery centers the lived experiences of immigrants & refugees in Connecticut. \nWe are seeking visual artists\, photographers\, writers\, and creators of all ages to submit art that reflects: acelebratand love contributions immigrants & refugees make – to culture\, cuisine\, music\, \n\nWhat is joyful about the immigrant community & traditions.\nIndividual stories\, emotions\, or faces often erased in news cycles & policy decisions.\nA challenge to dominant narratives about who belongs & what defines “American”.\nArtists are invited to share stories from their own lives\, their families\, or their communities.\nYou’re welcome to interpret the prompts above metaphorically\, spiritually\, culturally\, or politically. Think of these as starting points\, not boundaries. All mediums and voices are welcome.\nLast Date to Submit: September 17\nSubmit Art Using the QR Code\n\n*All art pieces will be kept completely anonymous\, & artists are not required to submit any information\,
URL:https://irisct.org/event/a-call-for-artists-and-storytellers/
ATTACH;FMTTYPE=image/png:https://irisct.org/wp-content/uploads/2025/08/Flyer-Roots-Routes.png
END:VEVENT
BEGIN:VEVENT
DTSTART;VALUE=DATE:20250811
DTEND;VALUE=DATE:20250819
DTSTAMP:20260425T162112
CREATED:20250807T192042Z
LAST-MODIFIED:20250807T192042Z
UID:30850-1754870400-1755561599@irisct.org
SUMMARY:Donate This  Back-to-School Season!
DESCRIPTION:Support Refugee & Immigrant Students\n\nBackpacks\nNotebooks\, folders\, binders\nPens\, pencils\, crayons\, markers\nErasers\, glue sticks\, scissors\nRulers\, highlighters\nLunch boxes & water bottles\n\n  \nDonation Drop-Off Dates & Location: \nAll material donations can be dropped off at our food pantry & warehouse facility on: \nMonday\, August 11 \nFriday\, August 15 \nMonday\, August 18 \n 🕤  From 9:30 AM to 12:30 PM \n 📍  IRIS Warehouse \n75 Hamilton Street\, New Haven\, CT \n  \nMake a Financial Gift\nYour money donation will helps us  ll in gaps and respond to urgent needs. \nOur Amazon Wishlist\nYou can also shop online and ship directly to IRIS. Scan QR code on flyer.
URL:https://irisct.org/event/donate-this-back-to-school-season/
LOCATION:IRIS Warehouse\, 75 Hamilton Street\, New Haven\, CT
ATTACH;FMTTYPE=image/jpeg:https://irisct.org/wp-content/uploads/2025/08/Back-to-School-Flyer-Edited-Print-scaled.jpg
END:VEVENT
BEGIN:VEVENT
DTSTART;TZID=UTC:20250912T190000
DTEND;TZID=UTC:20250912T220000
DTSTAMP:20260425T162112
CREATED:20250828T211153Z
LAST-MODIFIED:20250828T211153Z
UID:30878-1757703600-1757714400@irisct.org
SUMMARY:10th Annual Apizza Feast
DESCRIPTION:Pizza\, food and craft vendors\, beer\, wine and cocktail gardens and live music!\nGuinness world record attempt to be the largest pizza party!! \nOnly 5000 VIP tickets from 4 to 7 PM A1 Toyota feast free entry from 7 to 10 PM. \nNew Haven Grand Prix is from 4 to 10 PM and then DJ Funk flex 8 to 10 PM.
URL:https://irisct.org/event/10th-annual-apizza-feast/
ATTACH;FMTTYPE=image/jpeg:https://irisct.org/wp-content/uploads/2025/08/A-1-TOYOTA-APIZZA-FEAST-2025-Post-Online-scaled.jpg
END:VEVENT
BEGIN:VEVENT
DTSTART;TZID=UTC:20250928T163000
DTEND;TZID=UTC:20250928T180000
DTSTAMP:20260425T162112
CREATED:20250918T160655Z
LAST-MODIFIED:20250918T160924Z
UID:31248-1759077000-1759082400@irisct.org
SUMMARY:Steinway Artist Concert
DESCRIPTION:Bethesda Lutheran Church \nPlease join us for a concert of scintillating music of Liszt not often heard\, played by Steinway Artist Dr. Teresa Walters.  Presented by the Bethesda Music Series\, admission is free. For any who wish to make a donation\, all proceeds go to Integrated Refugee & Immigration Services. Dr. Walters is known around the world for her fabulous mastery of the piano and its music. You can explore her bio here: https://www.teresawalters.com/ \n\n\n“Teresa Walters is a splendid musician whose marvelous technical prowess and rich expressive resources create music of intimate introspection\, orchestral grandeur\, and the most minute inflections of color.”\n– The Washington Post\n\n“Her fingers give off sparks and she takes the keyboard into orbit.”\n– Budapest Sun\n\n \nBenefit for Integrated Immigrant & Refugee Services \n\nAdmission is free\, but donations for IRIS much appreciated.\nAll proceeds go to IRIS.
URL:https://irisct.org/event/steinway-artist-concert/
ATTACH;FMTTYPE=image/jpeg:https://irisct.org/wp-content/uploads/2025/09/theresa-walters-event-flyer.jpg
END:VEVENT
BEGIN:VEVENT
DTSTART;TZID=UTC:20251003T170000
DTEND;TZID=UTC:20251003T200000
DTSTAMP:20260425T162112
CREATED:20251002T132349Z
LAST-MODIFIED:20251002T132349Z
UID:31386-1759510800-1759521600@irisct.org
SUMMARY:Sip & Shop Fundraiser for IRIS at Montgomery and Taggert Bookshop
DESCRIPTION:October 3\, 2025 @ 5pm-8pm \nMontgomery and Taggert Bookshop\, 26 Water Street\, Chester\, CT\, 06412 \nSave the date for a Sip & Shop Fundraiser on Friday\, 10/3! Join us at Montgomery and Taggert Bookshop\, Connecticut’s first romance-themed bookstore\, from 5pm-8pm for extra shopping hours. Enjoy a complimentary glass of wine sponsored by Chester Package store while browsing new books and gifts\, and 10% of all purchases will be donated to support Integrated Refugee and Immigrant Services of Connecticut (IRIS CT). While you’re in town\, enjoy extra hours for dining\, shopping\, and live music throughout Chester Village during Chester First Friday. \nIRIS team members will be there\, as well as executive director Maggie Mitchel Salem
URL:https://irisct.org/event/sip-shop-fundraiser-for-iris-at-montgomery-and-taggert-bookshop/
LOCATION:Montgomery and Taggert Bookshop\, 26 Water Street\, Cheste\, CT\, 06412
ATTACH;FMTTYPE=image/jpeg:https://irisct.org/wp-content/uploads/2025/10/ratio4x3_960.jpg
END:VEVENT
BEGIN:VEVENT
DTSTART;TZID=UTC:20251006T110000
DTEND;TZID=UTC:20251006T130000
DTSTAMP:20260425T162112
CREATED:20251002T144358Z
LAST-MODIFIED:20251002T144615Z
UID:31408-1759748400-1759755600@irisct.org
SUMMARY:Love Thy Immigrant Neighbor
DESCRIPTION:People of faith and conscience call on Gov. Lamont and state leaders to pass meaningful immigrant protections this fall. \nMonday\, October 6\, 2025\nState Capitol\, 210 Capitol Ave.\nHartford\, CT \nSchedule of Events \n11:00 AM – Vigil at the Federal Building \n450 Main St\n11:30 AM – March to the State Capitol\n(0.6 mile walk) \n12:00 PM – Rally for Immigrant Protections \n  \nWE DEMAND: \n\nSafeguard people’s personal information\nProtect access to state courthouses\nClose loopholes for state and local cooperation with ICE\nProtect Medicaid for all who are currently covered\n\nJoin us however you can — at the Vigil\, on the March\, or at the Rally. Bilingual: English/Spanish with interpretation at the Capitol. \n 
URL:https://irisct.org/event/love-thy-immigrant-neighbor/
LOCATION:State Capitol\, 210 Capitol Ave.\, Hartford\, CT
ATTACH;FMTTYPE=image/jpeg:https://irisct.org/wp-content/uploads/2025/10/October6Spanish.jpg
END:VEVENT
BEGIN:VEVENT
DTSTART;TZID=UTC:20251016T120000
DTEND;TZID=UTC:20251016T130000
DTSTAMP:20260425T162112
CREATED:20251002T132719Z
LAST-MODIFIED:20251002T143233Z
UID:31391-1760616000-1760619600@irisct.org
SUMMARY:The Community Foundation for Greater New Haven: Briefing on Immigration
DESCRIPTION:October 16\, 2025 @ 12-1pm \nMaggie Mitchell Salem\, Executive Director of IRIS\, will join The Community Foundation for Greater New Haven for a special briefing on immigration. The discussion will focus on the challenges newcomers face\, IRIS’s role in supporting them\, and opportunities for community engagement.\n \nLocation: [virtual] \nFor more information:  \nhttps://www.facebook.com/share/p/178whVgh9Y/?mibextid=wwXIfr
URL:https://irisct.org/event/the-community-foundation-for-greater-new-haven-briefing-on-immigration/
ATTACH;FMTTYPE=image/jpeg:https://irisct.org/wp-content/uploads/2025/10/554798687_1267890965383447_7661039543644838461_n.jpg
END:VEVENT
BEGIN:VEVENT
DTSTART;TZID=UTC:20251018T150000
DTEND;TZID=UTC:20251018T170000
DTSTAMP:20260425T162112
CREATED:20251002T133101Z
LAST-MODIFIED:20251008T181522Z
UID:31394-1760799600-1760806800@irisct.org
SUMMARY:No Kings Rally\, New Haven Green
DESCRIPTION:nonoOctober 18\, 2025 @ 3–5pm \nIRIS will host a table at the No Kings Rally on the New Haven Green\, a community event organized by local Indivisible groups. The rally is designed to connect attendees with opportunities to learn more\, sign up\, and support local organizations. With thousands expected to attend\, this is a powerful space for building awareness and engagement.  \nLocation: New Haven Green\, 300 College Street\, New Haven CT
URL:https://irisct.org/event/no-kings-rally-new-haven-green/
LOCATION:New Haven Green
ATTACH;FMTTYPE=image/webp:https://irisct.org/wp-content/uploads/2025/10/nokings.webp
END:VEVENT
BEGIN:VEVENT
DTSTART;TZID=UTC:20251022T190000
DTEND;TZID=UTC:20251022T210000
DTSTAMP:20260425T162112
CREATED:20250918T160154Z
LAST-MODIFIED:20250918T160154Z
UID:31239-1761159600-1761166800@irisct.org
SUMMARY:Immigrant Stories: Tetyana Pavelo
DESCRIPTION:Tetyana is deeply passionate about ensuring that everyone—especially refugees and immigrants—have access to education\, resources\, and opportunities for a better future. \nOriginally from a small village near Uzhhorod in the Zakarpattya region of Ukraine\, Tetyana has been actively involved in raising funds for families in need and supporting children’s education in Ukraine\, especially during the ongoing war. With many of her family and friends still in Ukraine\, her dedication to helping others navigate new beginnings is personal and heartfelt. \n \nTetyana’s career began in Ukraine as a journalist\, where she spent six years publishing articles in local newspapers\, hosting radio news segments in Uzhhorod and Kyiv\, and serving as a correspondent in the Ukrainian Parliament. She also worked as a public relations specialist for one of Ukraine’s prime ministers\, engaging with national and international media. \nAfter immigrating to the United States in 2008\, Tetyana transitioned into the field of graphic design\, where she leveraged her communication skills to support clients across the tech\, marketing\, retail\, and fabrication sectors. Tetyana holds a degree in Romano-Germanic Philology from Uzhhorod National University in Ukraine\, and for two years\, she studied international economy at the European University in Kyiv. After moving to the US\, she continued her education\, earning a B.A. in Graphic Design from the University of Bridgeport. In 2016\, Tetyana worked as a designer on the URcommunity.us campaign\, which aimed to help young foreigners start their lives in a new country\, integrate into their communities\, and transition to a new normal. \nAt Integrated Refugee & Immigrant Services (IRIS)\, Tetyana brings her passion for empowerment and community building to her role as Community Integration Specialist\, where she connects refugees and immigrants with vital resources and helps them navigate their new lives in the U.S. She is inspired by the resilience of those she serves and is dedicated to building a supportive and welcoming community for all.
URL:https://irisct.org/event/immigrant-stories-tetyana-pavelo/
LOCATION:Palace Theater\, 100 East Main Street\, Waterbury\, CT\, 06702
ATTACH;FMTTYPE=image/jpeg:https://irisct.org/wp-content/uploads/2025/09/immigrant-stories-scaled.jpg
END:VEVENT
BEGIN:VEVENT
DTSTART;TZID=UTC:20251029T170000
DTEND;TZID=UTC:20251029T190000
DTSTAMP:20260425T162112
CREATED:20251015T015602Z
LAST-MODIFIED:20251015T015820Z
UID:31701-1761757200-1761764400@irisct.org
SUMMARY:Friends of IRIS
DESCRIPTION:Special Guest Speaker\nAttorney General William Tong\nWith introductions by New London Mayor Michael Passero and Immigration Policy & Benefits Updates by Daad and Maggie  \nWednesday\, October 29 • 5PM \nAll Souls Unitarian Universalist Congregation New London\, CT \nRSVP
URL:https://irisct.org/event/friends-of-iris/
LOCATION:All Souls Unitarian Universalist Congregation\, 9 Jay St.\, New London\, CT\, 06320
ATTACH;FMTTYPE=image/png:https://irisct.org/wp-content/uploads/2025/10/Friends-of-IRIS-invite.png
END:VEVENT
BEGIN:VEVENT
DTSTART;TZID=UTC:20251030T000000
DTEND;TZID=UTC:20251030T000000
DTSTAMP:20260425T162112
CREATED:20251002T133353Z
LAST-MODIFIED:20251002T133415Z
UID:31397-1761782400-1761782400@irisct.org
SUMMARY:Café Nine 3rd Annual Band Halloween Fundraiser for IRIS
DESCRIPTION:October 30\, 2025 @ [time TBD]  \nCafé Nine will host a fundraiser to benefit IRIS\, featuring live music\, community spirit\, and an opportunity to support immigrant and refugee families rebuilding their lives in Connecticut. Bring a coat for the coat drive and get a free drink from the bar. \nLocation: Café Nine\, 250 State Street\, New Haven\, Connecticut\, 06510
URL:https://irisct.org/event/cafe-nine-3rd-annual-band-halloween-fundraiser-for-iris/
LOCATION:Cafe Nine\, 250 State St\, New Haven\, CT\, United States
ATTACH;FMTTYPE=image/jpeg:https://irisct.org/wp-content/uploads/2025/10/cafe-nine-view-2.jpg
END:VEVENT
BEGIN:VEVENT
DTSTART;TZID=UTC:20251120T080000
DTEND;TZID=UTC:20251120T160000
DTSTAMP:20260425T162112
CREATED:20251109T212011Z
LAST-MODIFIED:20251109T212011Z
UID:32090-1763625600-1763654400@irisct.org
SUMMARY:Greater New Haven Chamber of Commerce – 2025 Big Connect Expo
DESCRIPTION:November 20\, 2025 @ 8:00 AM–4:00 PM \nIRIS will participate in the annual Big Connect Business Expo\, hosted by the Greater New Haven Chamber of Commerce. This event provides a platform for organizations\, businesses\, and nonprofits to connect\, collaborate\, and exchange ideas. IRIS will have a booth. \nThe CSK-IRIS partnership will receive the Constellation Award during the 9th Annual Nonprofits Align breakfast that morning. This award is specifically given to organizations that have successfully collaborated to “increase impact and ensure sustainability”. \nLocation: Omni New Haven Hotel at Yale\, 155 Temple Street\, New Haven\, CT 06510 \nContact: info@gnhcc.com \nIRIS Representatives will be there!
URL:https://irisct.org/event/greater-new-haven-chamber-of-commerce-2025-big-connect-expo/
LOCATION:Omni New Haven Hotel at Yale\, 155 Temple Street\, New Haven\, CT
ATTACH;FMTTYPE=image/webp:https://irisct.org/wp-content/uploads/2025/11/servlet.webp
END:VEVENT
BEGIN:VEVENT
DTSTART;TZID=UTC:20251122T130000
DTEND;TZID=UTC:20251122T160000
DTSTAMP:20260425T162112
CREATED:20251111T162556Z
LAST-MODIFIED:20251111T162556Z
UID:32104-1763816400-1763827200@irisct.org
SUMMARY:Ukrainian Thanksgiving Celebration
DESCRIPTION:Location: United Church on the Green\, 323 Temple St.\, New Haven\, CT 06511
URL:https://irisct.org/event/ukrainian-thanksgiving-celebration/
LOCATION:Parish House of the United Church on the Green\, 323 Temple Street\, New Haven\, CT\, 06510
ATTACH;FMTTYPE=image/jpeg:https://irisct.org/wp-content/uploads/2025/11/UKR-Friendsgiving.jpg
END:VEVENT
BEGIN:VEVENT
DTSTART;TZID=UTC:20251126T083000
DTEND;TZID=UTC:20251126T110000
DTSTAMP:20260425T162112
CREATED:20251109T212707Z
LAST-MODIFIED:20251109T212707Z
UID:32095-1764145800-1764154800@irisct.org
SUMMARY:Thanksgiving Turkey Distribution
DESCRIPTION:Turkey Distribution at IRIS/CSK Food Pantry on Wednesday November 26th from 8:30 to 11:00am.
URL:https://irisct.org/event/thanksgiving-turkey-distribution/
LOCATION:IRS Food Pantry\, 75 Hamilton Street\, New Haven\, CT
ATTACH;FMTTYPE=image/jpeg:https://irisct.org/wp-content/uploads/2024/04/EDITED_IRIS_foodpantry2024_rachelpeet-20-1-scaled.jpg
END:VEVENT
BEGIN:VEVENT
DTSTART;TZID=UTC:20251206T130000
DTEND;TZID=UTC:20251206T160000
DTSTAMP:20260425T162112
CREATED:20251109T213526Z
LAST-MODIFIED:20251109T213526Z
UID:32098-1765026000-1765036800@irisct.org
SUMMARY:IRIS Craft Fair
DESCRIPTION:In support of immigrant and refugee communities. \nSaturday\, December 6\n1 PM to 4 PM \nFirst Presbyterian Church\n704 Whitney Ave.\nNew Haven Connecticut \nArt • Crafts • Desserts • Homemade Food • Henna and More! \nCash Only. \n  \n  \n  \n 
URL:https://irisct.org/event/iris-craft-fair/
LOCATION:First Presbyterian Church\, 704 Whitney Ave\, New Haven\, CT\, United States
ATTACH;FMTTYPE=image/jpeg:https://irisct.org/wp-content/uploads/2025/11/iris-christmas-craft-fair-flyer.jpg
END:VEVENT
BEGIN:VEVENT
DTSTART;TZID=UTC:20251207T000000
DTEND;TZID=UTC:20251213T000000
DTSTAMP:20260425T162112
CREATED:20251207T222710Z
LAST-MODIFIED:20251207T222710Z
UID:32500-1765065600-1765584000@irisct.org
SUMMARY:Holiday Gift Drive for IRIS
DESCRIPTION:DONATIONS BEFORE DECEMBER 12TH \nWISHLIST:\nToiletries\nBedding\nPillows/Diapers\nToys/Crafts\nGames/School\nSupplies
URL:https://irisct.org/event/holiday-gift-drive-for-iris/
ATTACH;FMTTYPE=image/png:https://irisct.org/wp-content/uploads/2025/12/Updated-Holiday-Flyer.png
END:VEVENT
BEGIN:VEVENT
DTSTART;VALUE=DATE:20251213
DTEND;VALUE=DATE:20251214
DTSTAMP:20260425T162112
CREATED:20251114T195542Z
LAST-MODIFIED:20251114T195542Z
UID:32130-1765584000-1765670399@irisct.org
SUMMARY:2025 Wishing Wheels Bike Drive
DESCRIPTION:We are excited to announce the launch of the 2025 Wishing Wheels Bike Drive. As always\, we want to express our heartfelt appreciation for your continued dedication to the children in our community. Your compassion and hard work inspire us to keep making a difference\, one bike at a time. \nThe 2025 Wishing Wheels Bike Drive will take place on Saturday\, December 13th. As in past years\, the success of this event depends on the collaboration of partners like you. Together\, we can provide brand-new bikes and helmets to children who might not otherwise experience the joy and freedom of owning their very own bicycle. \nWe would love to partner with your organization again this year to identify children in need and make this holiday season extra special for them. \nBike Details\nThis year\, we will be offering bicycles for boys and girls ages 2 through 10\, along with a limited number of bikes for children ages 11 through 16. If your organization has older children in need\, please know that those sizes are limited\, but we will do our best to match each child with the correct bike based on age and gender. \nNext Steps\nPlease reply to this email at your earliest convenience to confirm your participation in the 2025 Wishing Wheels Bike Drive. In your response\, include an estimated timeframe for providing your initial list of children. Please exclude those who received bikes last year unless they have since outgrown them. Each list should include the child’s gender and age\, and\, if possible\, first name. \nSponsorship Support Needed\nAlthough we are fortunate to have hundreds of individual donors\, the success of this event depends significantly on the generosity of our sponsors. We have attached a sponsorship letter that you can share with businesses\, individuals\, or partners who may be interested in supporting the event. If you have existing sponsor relationships\, we would be so grateful if you could help us connect with them and share this meaningful opportunity. \nIf you have any questions\, please do not hesitate to reach out by email or phone at (203) 871-9896. We truly look forward to working with you again to bring joy\, smiles\, and the gift of two wheels to children throughout our community. \nWith gratitude\, \nThe DellaVentura Family and The Wishing Wheels Team
URL:https://irisct.org/event/2025-wishing-wheels-bike-drive/
LOCATION:Guilford Fair Grounds\, 111 Lovers Lane\, Guilford\, CT\, 06437
ATTACH;FMTTYPE=image/jpeg:https://irisct.org/wp-content/uploads/2025/11/wishing-wheels-flyer-scaled.jpg
END:VEVENT
BEGIN:VEVENT
DTSTART;TZID=UTC:20260203T180000
DTEND;TZID=UTC:20260203T193000
DTSTAMP:20260425T162112
CREATED:20260129T181024Z
LAST-MODIFIED:20260129T201114Z
UID:33219-1770141600-1770147000@irisct.org
SUMMARY:NEXT Client & Community Update Feb. 3 @ 6pm
DESCRIPTION:
URL:https://irisct.org/event/next-client-community-update-zoom-session/
ATTACH;FMTTYPE=image/png:https://irisct.org/wp-content/uploads/2026/01/2nd-date-Virtual-Meeting-Flyer.png
END:VEVENT
BEGIN:VEVENT
DTSTART;VALUE=DATE:20260208
DTEND;VALUE=DATE:20260209
DTSTAMP:20260425T162112
CREATED:20250208T160408Z
LAST-MODIFIED:20260204T181839Z
UID:29585-1770508800-1770595199@irisct.org
SUMMARY:Run for Refugees & All Immigrants
DESCRIPTION:See Event Page
URL:https://irisct.org/event/run-for-refugees-all-immigrants/
ATTACH;FMTTYPE=image/png:https://irisct.org/wp-content/uploads/2025/11/immigration-public-meeting-flyer.png
END:VEVENT
BEGIN:VEVENT
DTSTART;TZID=UTC:20260220T190000
DTEND;TZID=UTC:20260220T210000
DTSTAMP:20260425T162112
CREATED:20260204T200929Z
LAST-MODIFIED:20260204T200929Z
UID:33487-1771614000-1771621200@irisct.org
SUMMARY:Protecting Our Children From Ice Conference
DESCRIPTION:
URL:https://irisct.org/event/protecting-our-children-from-ice-conference/
ATTACH;FMTTYPE=image/jpeg:https://irisct.org/wp-content/uploads/2026/02/Protect-Our-Children-Conference.jpg
END:VEVENT
BEGIN:VEVENT
DTSTART;TZID=UTC:20260224T180000
DTEND;TZID=UTC:20260224T193000
DTSTAMP:20260425T162112
CREATED:20260223T195935Z
LAST-MODIFIED:20260223T195935Z
UID:34067-1771956000-1771961400@irisct.org
SUMMARY:URGENT Community Update Meeting
DESCRIPTION:
URL:https://irisct.org/event/urgent-community-update-meeting/
ATTACH;FMTTYPE=image/jpeg:https://irisct.org/wp-content/uploads/2026/02/IMG_2048.jpeg
END:VEVENT
BEGIN:VEVENT
DTSTART;TZID=UTC:20260306T173000
DTEND;TZID=UTC:20260306T200000
DTSTAMP:20260425T162112
CREATED:20260210T175516Z
LAST-MODIFIED:20260225T203537Z
UID:33595-1772818200-1772827200@irisct.org
SUMMARY:International Women's Day 2026 at Yale
DESCRIPTION:
URL:https://irisct.org/event/international-womens-day-2026-at-yale/
ATTACH;FMTTYPE=image/jpeg:https://irisct.org/wp-content/uploads/2026/02/IWD26-2.20update.jpg
END:VEVENT
BEGIN:VEVENT
DTSTART;VALUE=DATE:20260312
DTEND;VALUE=DATE:20260314
DTSTAMP:20260425T162112
CREATED:20260309T160713Z
LAST-MODIFIED:20260309T160713Z
UID:34457-1773273600-1773446399@irisct.org
SUMMARY:45the Annual CAACE Conference
DESCRIPTION:The Connecticut Association for Adult & Continuing Education Conference March 12013\nMystic Marriott Hotel & Spa – Groton
URL:https://irisct.org/event/45the-annual-caace-conference/
ATTACH;FMTTYPE=image/jpeg:https://irisct.org/wp-content/uploads/2026/03/45th-Annual-CAACE-Conference.jpg
END:VEVENT
BEGIN:VEVENT
DTSTART;TZID=UTC:20260315T140000
DTEND;TZID=UTC:20260315T153000
DTSTAMP:20260425T162112
CREATED:20260309T160954Z
LAST-MODIFIED:20260309T160954Z
UID:34461-1773583200-1773588600@irisct.org
SUMMARY:Rock This Democracy Symposium
DESCRIPTION:One Year Anniversary – FREE ADMISSION
URL:https://irisct.org/event/rock-this-democracy-symposium/
ATTACH;FMTTYPE=image/jpeg:https://irisct.org/wp-content/uploads/2026/03/rock-this-decocracy-flyer.jpeg
END:VEVENT
BEGIN:VEVENT
DTSTART;TZID=UTC:20260317T090000
DTEND;TZID=UTC:20260317T100000
DTSTAMP:20260425T162112
CREATED:20260306T164920Z
LAST-MODIFIED:20260309T170909Z
UID:34442-1773738000-1773741600@irisct.org
SUMMARY:Legislative Breakfast with IRIS
DESCRIPTION:Join us for a breakfast & discussion supporting immigration.
URL:https://irisct.org/event/legislative-breakfast-with-iris/
ATTACH;FMTTYPE=image/jpeg:https://irisct.org/wp-content/uploads/2026/03/Legislative-Breakfast-2026-1.jpg
END:VEVENT
BEGIN:VEVENT
DTSTART;TZID=UTC:20260325T180000
DTEND;TZID=UTC:20260325T193000
DTSTAMP:20260425T162112
CREATED:20260313T163052Z
LAST-MODIFIED:20260313T164035Z
UID:34481-1774461600-1774467000@irisct.org
SUMMARY:Know Your Rights Discussion Panel
DESCRIPTION:March 25\, 2026 – with IRIS Executive Director\, Maggie Mitchell Salem
URL:https://irisct.org/event/know-your-rights-discussion-panel/
ATTACH;FMTTYPE=image/jpeg:https://irisct.org/wp-content/uploads/2026/03/Know-Your-Rights-Panel-2026.jpg
END:VEVENT
BEGIN:VEVENT
DTSTART;TZID=UTC:20260326T173000
DTEND;TZID=UTC:20260326T200000
DTSTAMP:20260425T162112
CREATED:20260302T161258Z
LAST-MODIFIED:20260302T161708Z
UID:34423-1774546200-1774555200@irisct.org
SUMMARY:9th Annual Yale Refugee Health Conference
DESCRIPTION:PHYSICAL AND MENTAL HEALTH OF REFUGEES AND IMMIGRANTS:\nFrom Policy to Practice\nThursday\, March 26\, 2026 | 5:30 – 8 PM\nHope Memorial Building\, Room 110\n315 Cedar St\, New Haven\, CT \nDinner provided for those registered by March 24th \nREGISTER HERE
URL:https://irisct.org/event/9th-annual-yale-refugee-health-conference/
ATTACH;FMTTYPE=image/jpeg:https://irisct.org/wp-content/uploads/2026/03/Refugee-Health-Conference-2026-Flyer_FINAL.jpg
END:VEVENT
BEGIN:VEVENT
DTSTART;VALUE=DATE:20260328
DTEND;VALUE=DATE:20260329
DTSTAMP:20260425T162112
CREATED:20260313T163247Z
LAST-MODIFIED:20260313T163547Z
UID:34485-1774656000-1774742399@irisct.org
SUMMARY:No Kings Rally
DESCRIPTION:on the New Haven Green!
URL:https://irisct.org/event/no-kings-rally/
ATTACH;FMTTYPE=image/jpeg:https://irisct.org/wp-content/uploads/2026/03/NK3_Launch-Date_16x9-2_20260210190710729738.jpg
END:VEVENT
BEGIN:VEVENT
DTSTART;TZID=UTC:20260413T180000
DTEND;TZID=UTC:20260413T193000
DTSTAMP:20260425T162112
CREATED:20260401T184001Z
LAST-MODIFIED:20260406T230004Z
UID:35016-1776103200-1776108600@irisct.org
SUMMARY:HEAL Speaker Panel
DESCRIPTION:Local is Global: Supporting the Health of Refugee and Immigrant Communities Across New Haven \nIntegrated Refugee & Immigrant Services (IRIS) will participate in a speaker panel hosted by the Health Equity and Anti-Colonial Liberation (HEAL) Coalition at Yale University. This event\, held during National Public Health Week\, brings together professionals working with refugee and immigrant communities to share their experiences and explore the intersection of public health\, social justice\, and human rights. \nWinslow Auditorium\, Yale School of Public Health\n60 College Street\, New Haven\, CT\n\nThe panel will feature speakers from local organizations and institutions engaged in refugee and immigrant health work. The event is designed to foster dialogue with students and faculty and encourage engagement in advocacy and public health initiatives. Dinner will be provided\, and attendees can register via QR code or online link.\n\nIRIS will be represented by Rona Rohbar\, who will share insights from her work supporting refugee and immigrant communities\, including her professional journey and experiences in the field.
URL:https://irisct.org/event/heal-speaker-panel/
ATTACH;FMTTYPE=image/jpeg:https://irisct.org/wp-content/uploads/2026/04/HEAL-Speaker-Panel-Flyer-FINAL.jpg
END:VEVENT
BEGIN:VEVENT
DTSTART;TZID=UTC:20260418T130000
DTEND;TZID=UTC:20260418T163000
DTSTAMP:20260425T162112
CREATED:20260331T163332Z
LAST-MODIFIED:20260403T223141Z
UID:34945-1776517200-1776529800@irisct.org
SUMMARY:Yale Student Environmental Coalition Earth Fest 2026 
DESCRIPTION:Integrated Refugee & Immigrant Services (IRIS) will participate in Earth Fest 2026\, organized by the Yale Student Environmental Coalition (YSEC)\, a vibrant Earth Day celebration bringing together students\, faculty\, and community organizations. The event highlights initiatives that support a more sustainable and equitable future\, while creating space for community engagement\, education\, and collaboration.  \nApril 18\, 2026 @ 1:30–4:30 PM\nYale University Cross Campus 120 High Street\, New Haven\, CT 06511  \nEarth Fest is a large-scale outdoor event featuring student organizations\, nonprofits\, businesses\, live music\, and interactive activities. The event is expected to draw a broad audience from the Yale and New Haven community and provides an opportunity for organizations to share their work\, connect with attendees\, and promote community-driven initiatives.  \nIRIS will host a table at the event\, engaging with attendees and sharing information about programs and services that support refugees and immigrants in Connecticut. IRIS staff will also highlight opportunities for community involvement and ways to support immigrant and refugee communities. 
URL:https://irisct.org/event/yale-student-environmental-coalition-earth-fest-2026/
ATTACH;FMTTYPE=image/jpeg:https://irisct.org/wp-content/uploads/2026/03/Earth-Fest-2026-Flyer.jpg
END:VEVENT
END:VCALENDAR