BEGIN:VCALENDAR
VERSION:2.0
PRODID:-//IRIS-Integrated Refugee &amp; Immigrant Services - ECPv6.15.20//NONSGML v1.0//EN
CALSCALE:GREGORIAN
METHOD:PUBLISH
X-WR-CALNAME:IRIS-Integrated Refugee &amp; Immigrant Services
X-ORIGINAL-URL:https://irisct.org
X-WR-CALDESC:Events for IRIS-Integrated Refugee &amp; Immigrant Services
REFRESH-INTERVAL;VALUE=DURATION:PT1H
X-Robots-Tag:noindex
X-PUBLISHED-TTL:PT1H
BEGIN:VTIMEZONE
TZID:UTC
BEGIN:STANDARD
TZOFFSETFROM:+0000
TZOFFSETTO:+0000
TZNAME:UTC
DTSTART:20250101T000000
END:STANDARD
END:VTIMEZONE
BEGIN:VEVENT
DTSTART;TZID=UTC:20260315T140000
DTEND;TZID=UTC:20260315T153000
DTSTAMP:20260425T135655
CREATED:20260309T160954Z
LAST-MODIFIED:20260309T160954Z
UID:34461-1773583200-1773588600@irisct.org
SUMMARY:Rock This Democracy Symposium
DESCRIPTION:One Year Anniversary – FREE ADMISSION
URL:https://irisct.org/event/rock-this-democracy-symposium/
ATTACH;FMTTYPE=image/jpeg:https://irisct.org/wp-content/uploads/2026/03/rock-this-decocracy-flyer.jpeg
END:VEVENT
BEGIN:VEVENT
DTSTART;TZID=UTC:20260317T090000
DTEND;TZID=UTC:20260317T100000
DTSTAMP:20260425T135655
CREATED:20260306T164920Z
LAST-MODIFIED:20260309T170909Z
UID:34442-1773738000-1773741600@irisct.org
SUMMARY:Legislative Breakfast with IRIS
DESCRIPTION:Join us for a breakfast & discussion supporting immigration.
URL:https://irisct.org/event/legislative-breakfast-with-iris/
ATTACH;FMTTYPE=image/jpeg:https://irisct.org/wp-content/uploads/2026/03/Legislative-Breakfast-2026-1.jpg
END:VEVENT
BEGIN:VEVENT
DTSTART;TZID=UTC:20260325T180000
DTEND;TZID=UTC:20260325T193000
DTSTAMP:20260425T135655
CREATED:20260313T163052Z
LAST-MODIFIED:20260313T164035Z
UID:34481-1774461600-1774467000@irisct.org
SUMMARY:Know Your Rights Discussion Panel
DESCRIPTION:March 25\, 2026 – with IRIS Executive Director\, Maggie Mitchell Salem
URL:https://irisct.org/event/know-your-rights-discussion-panel/
ATTACH;FMTTYPE=image/jpeg:https://irisct.org/wp-content/uploads/2026/03/Know-Your-Rights-Panel-2026.jpg
END:VEVENT
BEGIN:VEVENT
DTSTART;TZID=UTC:20260326T173000
DTEND;TZID=UTC:20260326T200000
DTSTAMP:20260425T135655
CREATED:20260302T161258Z
LAST-MODIFIED:20260302T161708Z
UID:34423-1774546200-1774555200@irisct.org
SUMMARY:9th Annual Yale Refugee Health Conference
DESCRIPTION:PHYSICAL AND MENTAL HEALTH OF REFUGEES AND IMMIGRANTS:\nFrom Policy to Practice\nThursday\, March 26\, 2026 | 5:30 – 8 PM\nHope Memorial Building\, Room 110\n315 Cedar St\, New Haven\, CT \nDinner provided for those registered by March 24th \nREGISTER HERE
URL:https://irisct.org/event/9th-annual-yale-refugee-health-conference/
ATTACH;FMTTYPE=image/jpeg:https://irisct.org/wp-content/uploads/2026/03/Refugee-Health-Conference-2026-Flyer_FINAL.jpg
END:VEVENT
BEGIN:VEVENT
DTSTART;VALUE=DATE:20260328
DTEND;VALUE=DATE:20260329
DTSTAMP:20260425T135655
CREATED:20260313T163247Z
LAST-MODIFIED:20260313T163547Z
UID:34485-1774656000-1774742399@irisct.org
SUMMARY:No Kings Rally
DESCRIPTION:on the New Haven Green!
URL:https://irisct.org/event/no-kings-rally/
ATTACH;FMTTYPE=image/jpeg:https://irisct.org/wp-content/uploads/2026/03/NK3_Launch-Date_16x9-2_20260210190710729738.jpg
END:VEVENT
BEGIN:VEVENT
DTSTART;TZID=UTC:20260413T180000
DTEND;TZID=UTC:20260413T193000
DTSTAMP:20260425T135655
CREATED:20260401T184001Z
LAST-MODIFIED:20260406T230004Z
UID:35016-1776103200-1776108600@irisct.org
SUMMARY:HEAL Speaker Panel
DESCRIPTION:Local is Global: Supporting the Health of Refugee and Immigrant Communities Across New Haven \nIntegrated Refugee & Immigrant Services (IRIS) will participate in a speaker panel hosted by the Health Equity and Anti-Colonial Liberation (HEAL) Coalition at Yale University. This event\, held during National Public Health Week\, brings together professionals working with refugee and immigrant communities to share their experiences and explore the intersection of public health\, social justice\, and human rights. \nWinslow Auditorium\, Yale School of Public Health\n60 College Street\, New Haven\, CT\n\nThe panel will feature speakers from local organizations and institutions engaged in refugee and immigrant health work. The event is designed to foster dialogue with students and faculty and encourage engagement in advocacy and public health initiatives. Dinner will be provided\, and attendees can register via QR code or online link.\n\nIRIS will be represented by Rona Rohbar\, who will share insights from her work supporting refugee and immigrant communities\, including her professional journey and experiences in the field.
URL:https://irisct.org/event/heal-speaker-panel/
ATTACH;FMTTYPE=image/jpeg:https://irisct.org/wp-content/uploads/2026/04/HEAL-Speaker-Panel-Flyer-FINAL.jpg
END:VEVENT
BEGIN:VEVENT
DTSTART;TZID=UTC:20260418T130000
DTEND;TZID=UTC:20260418T163000
DTSTAMP:20260425T135655
CREATED:20260331T163332Z
LAST-MODIFIED:20260403T223141Z
UID:34945-1776517200-1776529800@irisct.org
SUMMARY:Yale Student Environmental Coalition Earth Fest 2026 
DESCRIPTION:Integrated Refugee & Immigrant Services (IRIS) will participate in Earth Fest 2026\, organized by the Yale Student Environmental Coalition (YSEC)\, a vibrant Earth Day celebration bringing together students\, faculty\, and community organizations. The event highlights initiatives that support a more sustainable and equitable future\, while creating space for community engagement\, education\, and collaboration.  \nApril 18\, 2026 @ 1:30–4:30 PM\nYale University Cross Campus 120 High Street\, New Haven\, CT 06511  \nEarth Fest is a large-scale outdoor event featuring student organizations\, nonprofits\, businesses\, live music\, and interactive activities. The event is expected to draw a broad audience from the Yale and New Haven community and provides an opportunity for organizations to share their work\, connect with attendees\, and promote community-driven initiatives.  \nIRIS will host a table at the event\, engaging with attendees and sharing information about programs and services that support refugees and immigrants in Connecticut. IRIS staff will also highlight opportunities for community involvement and ways to support immigrant and refugee communities. 
URL:https://irisct.org/event/yale-student-environmental-coalition-earth-fest-2026/
ATTACH;FMTTYPE=image/jpeg:https://irisct.org/wp-content/uploads/2026/03/Earth-Fest-2026-Flyer.jpg
END:VEVENT
BEGIN:VEVENT
DTSTART;TZID=UTC:20260422T180000
DTEND;TZID=UTC:20260422T193000
DTSTAMP:20260425T135655
CREATED:20260420T183057Z
LAST-MODIFIED:20260420T183333Z
UID:35352-1776880800-1776886200@irisct.org
SUMMARY:Community Immigration Update
DESCRIPTION:Please join us to learn more about recent updates regarding the revetting process and the administration’s lawsuit against New Haven as a sanctuary city. As always\, interpretation rooms will be provided in a number of different languages. \nJOIN HERE
URL:https://irisct.org/event/community-immigration-update/
ATTACH;FMTTYPE=image/jpeg:https://irisct.org/wp-content/uploads/2026/04/April-22-Community-Update.jpg
END:VEVENT
BEGIN:VEVENT
DTSTART;TZID=UTC:20260423T150000
DTEND;TZID=UTC:20260423T170000
DTSTAMP:20260425T135655
CREATED:20260331T162219Z
LAST-MODIFIED:20260331T162219Z
UID:34938-1776956400-1776963600@irisct.org
SUMMARY:Immigrant Day at the Capitol
DESCRIPTION:Honoring immigrants whose leadership\, resilience\, and\ncontributions enrich the State of Connecticut. \nApril 23\, 2026\n3:00 PM-5:00 PM \nState Capitol\, 210 Capitol Avenue\, Room 310\, Hartford\, CT  \nIntegrated Refugee & Immigrant Services (IRIS) will participate in Immigrant Day at the Capitol\, a statewide event that brings together community members\, advocates\, and organizations to celebrate the contributions of immigrants across Connecticut. The event will highlight stories of resilience\, leadership\, and community impact while providing an opportunity for attendees to engage with policymakers and partner organizations working to support immigrant communities.  \nThe event will include remarks from public officials\, community leaders\, and honored guests\, as well as opportunities for networking and civic engagement. The program recognizes immigrants whose contributions enrich the state of Connecticut. 
URL:https://irisct.org/event/immigrant-day-at-the-capitol/
ATTACH;FMTTYPE=image/jpeg:https://irisct.org/wp-content/uploads/2026/03/Flyer-Immigrant-Day-Final-with-Two-Gold-Sponsors-New-QR-Code.jpg
END:VEVENT
BEGIN:VEVENT
DTSTART;TZID=UTC:20260424T193000
DTEND;TZID=UTC:20260424T210000
DTSTAMP:20260425T135655
CREATED:20260331T163808Z
LAST-MODIFIED:20260403T202540Z
UID:34949-1777059000-1777064400@irisct.org
SUMMARY:Rock Voices – West Hartford Spring 2026 Concert
DESCRIPTION:Integrated Refugee & Immigrant Services (IRIS) will participate in the Rock Voices Spring 2026 Concert\, a community performance event hosted by Rock Voices\, America’s Community Rock Chorus. This concert will serve as a fundraiser supporting IRIS programs and services. The event brings together community members through music while raising awareness and support for refugee and immigrant communities.  \nApril 24\, 2026 @ 7:30 PM\nTrinity on Main\, New Britain\, CT  \nThe concert will feature a large community chorus performing classic and modern rock and pop songs accompanied by a live band. Community members are invited to attend and support IRIS through this engaging and family-friendly event.  \nIRIS representatives will attend the event\, engage with attendees\, and share information about IRIS services and impact. 
URL:https://irisct.org/event/rock-voices-west-hartford-spring-2026-concert/
ATTACH;FMTTYPE=image/jpeg:https://irisct.org/wp-content/uploads/2026/03/Rock-Voices-Fundraiser-Flyer.jpg
END:VEVENT
BEGIN:VEVENT
DTSTART;TZID=UTC:20260425T080000
DTEND;TZID=UTC:20260425T120000
DTSTAMP:20260425T135655
CREATED:20260331T162623Z
LAST-MODIFIED:20260331T162623Z
UID:34941-1777104000-1777118400@irisct.org
SUMMARY:Connecticut Foodshare Walk Against Hunger
DESCRIPTION:Integrated Refugee & Immigrant Services (IRIS) will participate in the Connecticut Foodshare Walk Against Hunger\, a statewide community event dedicated to raising awareness and funds to combat food insecurity. The event brings together individuals\, families\, and organizations committed to supporting access to food and essential resources for communities across Connecticut.  \nApril 25\, 2026 @ 8:00 AM – registration\, 10 AM – walk begins  \nLocation: Dunkin’ Park\, 1214 Main Street\, Hartford\, CT  \nEvent Information: Registration begins at 8:00 AM\, and the walk begins at 10:00 AM. Participants are encouraged to join teams\, fundraise\, and support local food programs. Proceeds from IRIS participation will support food pantry efforts and services for clients. 
URL:https://irisct.org/event/connecticut-foodshare-walk-against-hunger/
ATTACH;FMTTYPE=image/png:https://irisct.org/wp-content/uploads/2026/03/Walk-Against-Hunger-IRIS-Team-Promo.png
END:VEVENT
BEGIN:VEVENT
DTSTART;VALUE=DATE:20260703
DTEND;VALUE=DATE:20260704
DTSTAMP:20260425T135655
CREATED:20260410T193537Z
LAST-MODIFIED:20260416T183820Z
UID:35251-1783036800-1783123199@irisct.org
SUMMARY:America 250
DESCRIPTION:Friday\, July 3\, 2026 11AM – New Haven \nContribute to our 250 Immigrant Stories Project!\nSubmit a Logo Design to our Run For Refugees 20th Anniversary Logo Design Contest!
URL:https://irisct.org/event/america-250/
LOCATION:Parish House of the United Church on the Green\, 323 Temple Street\, New Haven\, CT\, 06510
ATTACH;FMTTYPE=image/jpeg:https://irisct.org/wp-content/uploads/2026/04/A250-Official-Flyer-scaled.jpg
END:VEVENT
END:VCALENDAR